BEGIN:VCALENDAR
VERSION:2.0
PRODID:-//wp-events-plugin.com//7.2.3.1//EN
TZID:Europe/Paris
X-WR-TIMEZONE:Europe/Paris
BEGIN:VEVENT
UID:10@lapetitemadeleine.org
DTSTART;TZID=Europe/Paris:20231021T140000
DTEND;TZID=Europe/Paris:20231021T170000
DTSTAMP:20231018T161154Z
URL:https://lapetitemadeleine.org/evenements/repair-cafe-34/
SUMMARY:Repair café #34
DESCRIPTION:
ATTACH;FMTTYPE=image/jpeg:https://lapetitemadeleine.org/wp-content/uploads
 /2022/12/RC27_1.jpg
CATEGORIES:Repair Café
LOCATION:Place du marché\, La Madeleine\, Place du marché\, La Madeleine\
 , Hauts-de-France\, 59110\, Nord\, France
GEO:50.654896;3.068775
X-APPLE-STRUCTURED-LOCATION;VALUE=URI;X-ADDRESS=Place du marché\, La Madel
 eine\, Hauts-de-France\, 59110\, Nord\, France;X-APPLE-RADIUS=100;X-TITLE=
 Place du marché\, La Madeleine:geo:50.654896,3.068775
END:VEVENT
BEGIN:VTIMEZONE
TZID:Europe/Paris
X-LIC-LOCATION:Europe/Paris
BEGIN:DAYLIGHT
DTSTART:20230326T030000
TZOFFSETFROM:+0100
TZOFFSETTO:+0200
TZNAME:CEST
END:DAYLIGHT
END:VTIMEZONE
END:VCALENDAR